BEGIN:VCALENDAR
VERSION:2.0
PRODID:-//MTB Biking | - ECPv6.15.15//NONSGML v1.0//EN
CALSCALE:GREGORIAN
METHOD:PUBLISH
X-ORIGINAL-URL:https://masolide-demo.com
X-WR-CALDESC:Events for MTB Biking |
REFRESH-INTERVAL;VALUE=DURATION:PT1H
X-Robots-Tag:noindex
X-PUBLISHED-TTL:PT1H
BEGIN:VTIMEZONE
TZID:Europe/Paris
BEGIN:DAYLIGHT
TZOFFSETFROM:+0100
TZOFFSETTO:+0200
TZNAME:CEST
DTSTART:20250330T010000
END:DAYLIGHT
BEGIN:STANDARD
TZOFFSETFROM:+0200
TZOFFSETTO:+0100
TZNAME:CET
DTSTART:20251026T010000
END:STANDARD
BEGIN:DAYLIGHT
TZOFFSETFROM:+0100
TZOFFSETTO:+0200
TZNAME:CEST
DTSTART:20260329T010000
END:DAYLIGHT
BEGIN:STANDARD
TZOFFSETFROM:+0200
TZOFFSETTO:+0100
TZNAME:CET
DTSTART:20261025T010000
END:STANDARD
BEGIN:DAYLIGHT
TZOFFSETFROM:+0100
TZOFFSETTO:+0200
TZNAME:CEST
DTSTART:20270328T010000
END:DAYLIGHT
BEGIN:STANDARD
TZOFFSETFROM:+0200
TZOFFSETTO:+0100
TZNAME:CET
DTSTART:20271031T010000
END:STANDARD
END:VTIMEZONE
BEGIN:VEVENT
DTSTART;TZID=Europe/Paris:20260204T080000
DTEND;TZID=Europe/Paris:20260416T170000
DTSTAMP:20260424T122611
CREATED:20260213T170417Z
LAST-MODIFIED:20260223T230910Z
UID:10447-1770192000-1776358800@masolide-demo.com
SUMMARY:Luxury Mountain biking tour
DESCRIPTION:4 DAYS / 3 NIGHTS\n DELUXE / REFINEMENT\n PREMIUM MOUNTAIN BIKE\n IMLIL / OUIRGANE VALLEY\n\nOverview\nEmbark on an elite 4-day luxury mountain biking tour through the mesmerizing landscapes of the High Atlas. This meticulously designed retreat offers a seamless blend of thrilling trail riding\, breathtaking vistas\, and the refined comfort of Morocco’s premier boutique accommodations. \nDesigned for those who seek both adventure and elegance\, this tour takes you from the salt mines of the Ouirgane Valley to the snow-capped foothills of Mount Toubkal. Conquer rugged singletracks by day\, and spend your evenings relaxing by the pool in a luxurious mountain Kasbah\, savoring gourmet Moroccan cuisine. Every aspect of this journey is crafted to provide a high-end cycling experience in one of the world’s most dramatic mountain ranges. \n \n\n \nThe Deluxe Retreat Itinerary\n\nDay 1: Marrakech to Ouirgane Valley – Morning collection in a private vehicle. Cycle through the Ouirgane salt mines before a 7km climb to a Berber village for a panoramic lunch. Afternoon descent back to your luxury lodge for poolside relaxation and a gourmet dinner. \nDay 2: The Shadows of Toubkal – Journey into the iconic hiking village of Imlil. Experience a rolling ride through high mountain streams and lush valleys under Africa’s highest peak. Enjoy lunch in Asni before returning to the Kasbah for a well-deserved rest. \nDay 3: Kik Plateau to Lake Takerkoust – Challenge yourself with a technical 4km climb to the spectacular limestone Kik Plateau. Navigate the dry\, village-dotted plains before descending toward the shimmering blue waters of Lake Takerkoust. \nDay 4: Lake Shore to Marrakech – A final scenic morning ride along the lake before a private transfer back to the vibrant Red City\, full of unforgettable Atlas memories. \n\nThe Luxury Experience Includes\n\nProfessional English-Speaking MTB Guide\nFull Support Vehicle & Luggage Concierge\nPremium Full-Suspension Mountain Bike & Helmet\n3 Nights in Luxury Mountain Kasbahs & Riads\nAll Gourmet Meals (Breakfast\, Trail Lunch\, and Dinner)\nPrivate Round-trip Transfers from Marrakech\n\n \nBook This Adventure
URL:https://masolide-demo.com/event/luxury-mountain-biking-tour/
CATEGORIES:Sports
ATTACH;FMTTYPE=image/webp:https://masolide-demo.com/wp-content/uploads/2026/02/luxury-mountain-biking-tour-morocco-6.webp
ORGANIZER;CN="MTB Biking":MAILTO:info@mountain-bike-morocco.com
END:VEVENT
BEGIN:VEVENT
DTSTART;TZID=Europe/Paris:20260204T080000
DTEND;TZID=Europe/Paris:20260312T170000
DTSTAMP:20260424T122611
CREATED:20260212T233045Z
LAST-MODIFIED:20260219T142125Z
UID:10435-1770192000-1773334800@masolide-demo.com
SUMMARY:MTB Tour Atlas Mountains
DESCRIPTION:3 DAYS / 2 NIGHTS\n INTERMEDIATE\n MOUNTAIN BIKE (MTB)\n IMLIL / AZZADEN VALLEY\n\nOverview\nLooking for the ultimate mountain bike escape? Our **3-day Atlas Mountains MTB Tour** is the perfect getaway from the heat and hustle of Marrakech. Designed for adventurous riders with a reasonable level of fitness\, this journey takes you deep into the authentic heart of the High Atlas. \nTraverse rugged mountain passes\, fly down endless gravel descents\, and navigate ancient donkey tracks through striking Berber villages. You will experience the raw beauty of the **Imlil and Azzaden Valleys**\, where jagged gorges meet snow-capped peaks. With expert local guidance\, you’ll unlock hidden singletracks and enjoy the legendary hospitality of the Berber people in traditional mountain guesthouses. This is an unrivalled off-road experience through a window into a bygone era. \n \n\n  \n\nThe Itinerary\n\nDay 1: Imlil to Azzaden Valley – Depart Imlil for a steady climb to the Tacht pass. Enjoy sweeping views over the Ait Mizan Valley before descending dirt roads into the remote Azzaden Valley. Overnight in a traditional village guesthouse (1600m). \nDay 2: Ouirgane to Amizmiz – A high-speed day connecting several Berber villages. After a riverside lunch\, cross a massive dam to access a spectacular ribbon of singletrack through a breathtaking gorge. End the day with a relaxing traditional Hammam in Ait Zitoune. \nDay 3: Singletrack Challenge to Marrakech – Our best day of technical riding! Tackle a morning of tough singletrack challenges and climbs. Share mint tea with a Berber family before a final descent and transfer back to Marrakech. \n\nWhat’s Included\n\nProfessional English-Speaking MTB Guide\nHigh-Quality Mountain Bike & Helmet Hire\nAll Airport Transfers & Private Transport\n2 Nights in Traditional Berber Guesthouses\nAll meals and refreshments during the tour\nTechnical Support Vehicle & Mechanic Assistance\n\n \nBook This Adventure
URL:https://masolide-demo.com/event/mtb-tour-atlas-mountains/
CATEGORIES:Sports
ATTACH;FMTTYPE=image/webp:https://masolide-demo.com/wp-content/uploads/2026/02/mtb-tour-atlas-mountains-3-scaled-1.webp
END:VEVENT
END:VCALENDAR